BEGIN:VCALENDAR
VERSION:2.0
METHOD:PUBLISH
CALSCALE:GREGORIAN
PRODID:-//WordPress - MECv7.24.0//EN
X-ORIGINAL-URL:https://yor.onstaging.dev/
X-WR-CALNAME:yor.onstaging.dev
X-WR-CALDESC:
REFRESH-INTERVAL;VALUE=DURATION:PT1H
X-PUBLISHED-TTL:PT1H
X-MS-OLK-FORCEINSPECTOROPEN:TRUE
BEGIN:VEVENT
CLASS:PUBLIC
UID:MEC-e3019767b1b23f82883c9850356b71d6@yor.onstaging.dev
DTSTART:20260609T040100Z
DTEND:20260627T035900Z
DTSTAMP:20250723T134400Z
CREATED:20250723
LAST-MODIFIED:20250723
PRIORITY:5
SEQUENCE:0
TRANSP:OPAQUE
SUMMARY:REGENTS WEEK
DESCRIPTION:
URL:https://yor.onstaging.dev/events/regents-week/
ORGANIZER;CN=YOR calendar:MAILTO:1e497c4e19224c756419afef8aa3762cc22489c0efaaae2ffc5389ad8be3fb51@group.calendar.google.com
END:VEVENT
BEGIN:VEVENT
CLASS:PUBLIC
UID:MEC-ffa1e107c6469dafa0016703450e26ed@yor.onstaging.dev
DTSTART:20260522T040100Z
DTEND:20260524T035900Z
DTSTAMP:20250723T134400Z
CREATED:20250723
LAST-MODIFIED:20250723
PRIORITY:5
SEQUENCE:0
TRANSP:OPAQUE
SUMMARY:SHAVUOS (Students stay for Shavuos)
DESCRIPTION:
URL:https://yor.onstaging.dev/events/shavuos-students-stay-for-shavuos/
ORGANIZER;CN=YOR calendar:MAILTO:1e497c4e19224c756419afef8aa3762cc22489c0efaaae2ffc5389ad8be3fb51@group.calendar.google.com
END:VEVENT
BEGIN:VEVENT
CLASS:PUBLIC
UID:MEC-cb93980bc94a17e36d6de5da28b99785@yor.onstaging.dev
DTSTART:20260517T200000Z
DTEND:20260517T210000Z
DTSTAMP:20250723T134400Z
CREATED:20250723
LAST-MODIFIED:20250726
PRIORITY:5
SEQUENCE:0
TRANSP:OPAQUE
SUMMARY:Students must return by 7:00 PM
DESCRIPTION:
URL:https://yor.onstaging.dev/events/students-must-return-by-7/
ORGANIZER;CN=YOR calendar:MAILTO:1e497c4e19224c756419afef8aa3762cc22489c0efaaae2ffc5389ad8be3fb51@group.calendar.google.com
END:VEVENT
BEGIN:VEVENT
CLASS:PUBLIC
UID:MEC-80f7325fa857de62fafe85f7a30273cb@yor.onstaging.dev
DTSTART:20260514T040100Z
DTEND:20260515T035900Z
DTSTAMP:20250723T134400Z
CREATED:20250723
LAST-MODIFIED:20250723
PRIORITY:5
SEQUENCE:0
TRANSP:OPAQUE
SUMMARY:OFF SHABBOS Students may leave after Shacharis
DESCRIPTION:
URL:https://yor.onstaging.dev/events/off-shabbos-students-may-leave-after-shacharis-4/
ORGANIZER;CN=YOR calendar:MAILTO:1e497c4e19224c756419afef8aa3762cc22489c0efaaae2ffc5389ad8be3fb51@group.calendar.google.com
END:VEVENT
BEGIN:VEVENT
CLASS:PUBLIC
UID:MEC-64986d86a17424eeac96b08a6d519059@yor.onstaging.dev
DTSTART:20260412T200000Z
DTEND:20260412T210000Z
DTSTAMP:20250723T134400Z
CREATED:20250723
LAST-MODIFIED:20250726
PRIORITY:5
SEQUENCE:0
TRANSP:OPAQUE
SUMMARY:Students must return by 7:00 PM
DESCRIPTION:
URL:https://yor.onstaging.dev/events/students-must-return-by-6/
ORGANIZER;CN=YOR calendar:MAILTO:1e497c4e19224c756419afef8aa3762cc22489c0efaaae2ffc5389ad8be3fb51@group.calendar.google.com
END:VEVENT
BEGIN:VEVENT
CLASS:PUBLIC
UID:MEC-e3a54649aeec04cf1c13907bc6c5c8aa@yor.onstaging.dev
DTSTART:20260325T040100Z
DTEND:20260326T035900Z
DTSTAMP:20250723T134400Z
CREATED:20250723
LAST-MODIFIED:20250723
PRIORITY:5
SEQUENCE:0
TRANSP:OPAQUE
SUMMARY:PESACH VACATION Students may leave after Shacharis
DESCRIPTION:
URL:https://yor.onstaging.dev/events/pesach-vacation-students-may-leave-after-shacharis/
ORGANIZER;CN=YOR calendar:MAILTO:1e497c4e19224c756419afef8aa3762cc22489c0efaaae2ffc5389ad8be3fb51@group.calendar.google.com
END:VEVENT
BEGIN:VEVENT
CLASS:PUBLIC
UID:MEC-df334b223e699294764c2bb7ae40d8db@yor.onstaging.dev
DTSTART:20260324T040100Z
DTEND:20260325T035900Z
DTSTAMP:20250723T134400Z
CREATED:20250723
LAST-MODIFIED:20250723
PRIORITY:5
SEQUENCE:0
TRANSP:OPAQUE
SUMMARY:BECHINOS
DESCRIPTION:
URL:https://yor.onstaging.dev/events/bechinos-2/
ORGANIZER;CN=YOR calendar:MAILTO:1e497c4e19224c756419afef8aa3762cc22489c0efaaae2ffc5389ad8be3fb51@group.calendar.google.com
END:VEVENT
BEGIN:VEVENT
CLASS:PUBLIC
UID:MEC-738a6457be8432bab553e21b4235dd97@yor.onstaging.dev
DTSTART:20260305T050100Z
DTEND:20260306T045900Z
DTSTAMP:20250723T144400Z
CREATED:20250723
LAST-MODIFIED:20250723
PRIORITY:5
SEQUENCE:0
TRANSP:OPAQUE
SUMMARY:Classes Resume
DESCRIPTION:
URL:https://yor.onstaging.dev/events/classes-resume-6/
ORGANIZER;CN=YOR calendar:MAILTO:1e497c4e19224c756419afef8aa3762cc22489c0efaaae2ffc5389ad8be3fb51@group.calendar.google.com
END:VEVENT
BEGIN:VEVENT
CLASS:PUBLIC
UID:MEC-860b37e28ec7ba614f00f9246949561d@yor.onstaging.dev
DTSTART:20260304T220000Z
DTEND:20260304T230000Z
DTSTAMP:20250723T144400Z
CREATED:20250723
LAST-MODIFIED:20250726
PRIORITY:5
SEQUENCE:0
TRANSP:OPAQUE
SUMMARY:Students must return by 7:00 PM
DESCRIPTION:
URL:https://yor.onstaging.dev/events/students-must-return-by-5/
ORGANIZER;CN=YOR calendar:MAILTO:1e497c4e19224c756419afef8aa3762cc22489c0efaaae2ffc5389ad8be3fb51@group.calendar.google.com
END:VEVENT
BEGIN:VEVENT
CLASS:PUBLIC
UID:MEC-47267ca39f652c0de27a4b27c5e11c40@yor.onstaging.dev
DTSTART:20260227T050100Z
DTEND:20260228T045900Z
DTSTAMP:20250723T144400Z
CREATED:20250723
LAST-MODIFIED:20250723
PRIORITY:5
SEQUENCE:0
TRANSP:OPAQUE
SUMMARY:PURIM VACATION Students may leave after Shacharis
DESCRIPTION:
URL:https://yor.onstaging.dev/events/purim-vacation-students-may-leave-after-shacharis/
ORGANIZER;CN=YOR calendar:MAILTO:1e497c4e19224c756419afef8aa3762cc22489c0efaaae2ffc5389ad8be3fb51@group.calendar.google.com
END:VEVENT
BEGIN:VEVENT
CLASS:PUBLIC
UID:MEC-5301c4d888f5204274439e6dcf5fdb54@yor.onstaging.dev
DTSTART:20260216T050100Z
DTEND:20260217T045900Z
DTSTAMP:20250723T144400Z
CREATED:20250723
LAST-MODIFIED:20250723
PRIORITY:5
SEQUENCE:0
TRANSP:OPAQUE
SUMMARY:Classes Resume
DESCRIPTION:
URL:https://yor.onstaging.dev/events/classes-resume-5/
ORGANIZER;CN=YOR calendar:MAILTO:1e497c4e19224c756419afef8aa3762cc22489c0efaaae2ffc5389ad8be3fb51@group.calendar.google.com
END:VEVENT
BEGIN:VEVENT
CLASS:PUBLIC
UID:MEC-20d039f53b4a6786c21ee0dbcd2d2c5d@yor.onstaging.dev
DTSTART:20260215T220000Z
DTEND:20260215T230000Z
DTSTAMP:20250723T144400Z
CREATED:20250723
LAST-MODIFIED:20250726
PRIORITY:5
SEQUENCE:0
TRANSP:OPAQUE
SUMMARY:Students must return by 7:00 PM
DESCRIPTION:
URL:https://yor.onstaging.dev/events/students-must-return-by-4/
ORGANIZER;CN=YOR calendar:MAILTO:1e497c4e19224c756419afef8aa3762cc22489c0efaaae2ffc5389ad8be3fb51@group.calendar.google.com
END:VEVENT
BEGIN:VEVENT
CLASS:PUBLIC
UID:MEC-3501672ebc68a5524629080e3ef60aef@yor.onstaging.dev
DTSTART:20260212T050100Z
DTEND:20260213T045900Z
DTSTAMP:20250723T144400Z
CREATED:20250723
LAST-MODIFIED:20250723
PRIORITY:5
SEQUENCE:0
TRANSP:OPAQUE
SUMMARY:OFF SHABBOS Students may leave after Shacharis
DESCRIPTION:
URL:https://yor.onstaging.dev/events/off-shabbos-students-may-leave-after-shacharis-3/
ORGANIZER;CN=YOR calendar:MAILTO:1e497c4e19224c756419afef8aa3762cc22489c0efaaae2ffc5389ad8be3fb51@group.calendar.google.com
END:VEVENT
BEGIN:VEVENT
CLASS:PUBLIC
UID:MEC-ba7609ee5789cc4dff171045a693a65f@yor.onstaging.dev
DTSTART:20260119T050100Z
DTEND:20260120T045900Z
DTSTAMP:20250723T144400Z
CREATED:20250723
LAST-MODIFIED:20250723
PRIORITY:5
SEQUENCE:0
TRANSP:OPAQUE
SUMMARY:Classes Resume
DESCRIPTION:
URL:https://yor.onstaging.dev/events/classes-resume-4/
ORGANIZER;CN=YOR calendar:MAILTO:1e497c4e19224c756419afef8aa3762cc22489c0efaaae2ffc5389ad8be3fb51@group.calendar.google.com
END:VEVENT
BEGIN:VEVENT
CLASS:PUBLIC
UID:MEC-1ab60b5e8bd4eac8a7537abb5936aadc@yor.onstaging.dev
DTSTART:20260118T220000Z
DTEND:20260118T230000Z
DTSTAMP:20250723T144400Z
CREATED:20250723
LAST-MODIFIED:20250726
PRIORITY:5
SEQUENCE:0
TRANSP:OPAQUE
SUMMARY:Students must return by 7:00 PM
DESCRIPTION:
URL:https://yor.onstaging.dev/events/students-must-return-by-3/
ORGANIZER;CN=YOR calendar:MAILTO:1e497c4e19224c756419afef8aa3762cc22489c0efaaae2ffc5389ad8be3fb51@group.calendar.google.com
END:VEVENT
BEGIN:VEVENT
CLASS:PUBLIC
UID:MEC-51311013e51adebc3c34d2cc591fefee@yor.onstaging.dev
DTSTART:20260115T050100Z
DTEND:20260116T045900Z
DTSTAMP:20250723T144400Z
CREATED:20250723
LAST-MODIFIED:20250723
PRIORITY:5
SEQUENCE:0
TRANSP:OPAQUE
SUMMARY:OFF SHABBOS Students may leave after Shacharis
DESCRIPTION:
URL:https://yor.onstaging.dev/events/off-shabbos-students-may-leave-after-shacharis-2/
ORGANIZER;CN=YOR calendar:MAILTO:1e497c4e19224c756419afef8aa3762cc22489c0efaaae2ffc5389ad8be3fb51@group.calendar.google.com
END:VEVENT
BEGIN:VEVENT
CLASS:PUBLIC
UID:MEC-5bca8566db79f3788be9efd96c9ed70d@yor.onstaging.dev
DTSTART:20251230T050100Z
DTEND:20251231T045900Z
DTSTAMP:20250723T144400Z
CREATED:20250723
LAST-MODIFIED:20250723
PRIORITY:5
SEQUENCE:0
TRANSP:OPAQUE
SUMMARY:ASARA B’TEVES No General Studies Classes
DESCRIPTION:
URL:https://yor.onstaging.dev/events/asara-bteves-no-general-studies-classes/
ORGANIZER;CN=YOR calendar:MAILTO:1e497c4e19224c756419afef8aa3762cc22489c0efaaae2ffc5389ad8be3fb51@group.calendar.google.com
END:VEVENT
BEGIN:VEVENT
CLASS:PUBLIC
UID:MEC-09676fac73eda6cac726c43e43e86c58@yor.onstaging.dev
DTSTART:20251223T050100Z
DTEND:20251224T045900Z
DTSTAMP:20250723T144400Z
CREATED:20250723
LAST-MODIFIED:20250723
PRIORITY:5
SEQUENCE:0
TRANSP:OPAQUE
SUMMARY:Classes Resume
DESCRIPTION:
URL:https://yor.onstaging.dev/events/classes-resume-3/
ORGANIZER;CN=YOR calendar:MAILTO:1e497c4e19224c756419afef8aa3762cc22489c0efaaae2ffc5389ad8be3fb51@group.calendar.google.com
END:VEVENT
BEGIN:VEVENT
CLASS:PUBLIC
UID:MEC-a9d34fb66d81367590fdd5337324233a@yor.onstaging.dev
DTSTART:20251222T220000Z
DTEND:20251222T230000Z
DTSTAMP:20250723T144400Z
CREATED:20250723
LAST-MODIFIED:20250726
PRIORITY:5
SEQUENCE:0
TRANSP:OPAQUE
SUMMARY:Students must return by 7:00 PM
DESCRIPTION:
URL:https://yor.onstaging.dev/events/students-must-return-by-2/
ORGANIZER;CN=YOR calendar:MAILTO:1e497c4e19224c756419afef8aa3762cc22489c0efaaae2ffc5389ad8be3fb51@group.calendar.google.com
END:VEVENT
BEGIN:VEVENT
CLASS:PUBLIC
UID:MEC-4cc05b35c2f937c5bd9e7d41d3686fff@yor.onstaging.dev
DTSTART:20251217T050100Z
DTEND:20251218T045900Z
DTSTAMP:20250723T144400Z
CREATED:20250723
LAST-MODIFIED:20250723
PRIORITY:5
SEQUENCE:0
TRANSP:OPAQUE
SUMMARY:CHANUKAH VACATION Students may leave after Shacharis
DESCRIPTION:
URL:https://yor.onstaging.dev/events/chanukah-vacation-students-may-leave-after-shacharis/
ORGANIZER;CN=YOR calendar:MAILTO:1e497c4e19224c756419afef8aa3762cc22489c0efaaae2ffc5389ad8be3fb51@group.calendar.google.com
END:VEVENT
BEGIN:VEVENT
CLASS:PUBLIC
UID:MEC-2be8328f41144106f7144802f2367487@yor.onstaging.dev
DTSTART:20251216T050100Z
DTEND:20251217T045900Z
DTSTAMP:20250723T144400Z
CREATED:20250723
LAST-MODIFIED:20250723
PRIORITY:5
SEQUENCE:0
TRANSP:OPAQUE
SUMMARY:BECHINOS
DESCRIPTION:
URL:https://yor.onstaging.dev/events/bechinos/
ORGANIZER;CN=YOR calendar:MAILTO:1e497c4e19224c756419afef8aa3762cc22489c0efaaae2ffc5389ad8be3fb51@group.calendar.google.com
END:VEVENT
BEGIN:VEVENT
CLASS:PUBLIC
UID:MEC-62b98e188905060143a433b1363b3266@yor.onstaging.dev
DTSTART:20251117T050100Z
DTEND:20251118T045900Z
DTSTAMP:20250723T144400Z
CREATED:20250723
LAST-MODIFIED:20250723
PRIORITY:5
SEQUENCE:0
TRANSP:OPAQUE
SUMMARY:Classes Resume
DESCRIPTION:
URL:https://yor.onstaging.dev/events/classes-resume-2/
ORGANIZER;CN=YOR calendar:MAILTO:1e497c4e19224c756419afef8aa3762cc22489c0efaaae2ffc5389ad8be3fb51@group.calendar.google.com
END:VEVENT
BEGIN:VEVENT
CLASS:PUBLIC
UID:MEC-c9d9edbf9b9e23eb5d4819bbcce9b078@yor.onstaging.dev
DTSTART:20251116T220000Z
DTEND:20251116T230000Z
DTSTAMP:20250723T144400Z
CREATED:20250723
LAST-MODIFIED:20250723
PRIORITY:5
SEQUENCE:0
TRANSP:OPAQUE
SUMMARY:Students must return by 7:00 PM
DESCRIPTION:
URL:https://yor.onstaging.dev/events/students-must-return-by-700-pm/
ORGANIZER;CN=YOR calendar:MAILTO:1e497c4e19224c756419afef8aa3762cc22489c0efaaae2ffc5389ad8be3fb51@group.calendar.google.com
END:VEVENT
BEGIN:VEVENT
CLASS:PUBLIC
UID:MEC-b33128cb0089003ddfb5199e1b679652@yor.onstaging.dev
DTSTART:20251113T050100Z
DTEND:20251114T045900Z
DTSTAMP:20250723T144400Z
CREATED:20250723
LAST-MODIFIED:20250723
PRIORITY:5
SEQUENCE:0
TRANSP:OPAQUE
SUMMARY:OFF SHABBOS Students may leave after Shacharis
DESCRIPTION:
URL:https://yor.onstaging.dev/events/off-shabbos-students-may-leave-after-shacharis/
ORGANIZER;CN=YOR calendar:MAILTO:1e497c4e19224c756419afef8aa3762cc22489c0efaaae2ffc5389ad8be3fb51@group.calendar.google.com
END:VEVENT
BEGIN:VEVENT
CLASS:PUBLIC
UID:MEC-9d94c8981a48d12adfeecfe1ae6e0ec1@yor.onstaging.dev
DTSTART:20251020T040100Z
DTEND:20251021T035900Z
DTSTAMP:20250723T134400Z
CREATED:20250723
LAST-MODIFIED:20250723
PRIORITY:5
SEQUENCE:0
TRANSP:OPAQUE
SUMMARY:Classes Resume
DESCRIPTION:
URL:https://yor.onstaging.dev/events/classes-resume/
ORGANIZER;CN=YOR calendar:MAILTO:1e497c4e19224c756419afef8aa3762cc22489c0efaaae2ffc5389ad8be3fb51@group.calendar.google.com
END:VEVENT
BEGIN:VEVENT
CLASS:PUBLIC
UID:MEC-77ab78641fb740c101b96c74ca7c15f6@yor.onstaging.dev
DTSTART:20251019T200000Z
DTEND:20251019T210000Z
DTSTAMP:20250723T134300Z
CREATED:20250723
LAST-MODIFIED:20250726
PRIORITY:5
SEQUENCE:0
TRANSP:OPAQUE
SUMMARY:Students must return by 7:00 PM
DESCRIPTION:
URL:https://yor.onstaging.dev/events/students-must-return-by/
ORGANIZER;CN=YOR calendar:MAILTO:1e497c4e19224c756419afef8aa3762cc22489c0efaaae2ffc5389ad8be3fb51@group.calendar.google.com
END:VEVENT
BEGIN:VEVENT
CLASS:PUBLIC
UID:MEC-57342f6b95854ad89e9c4088ab94adcf@yor.onstaging.dev
DTSTART:20251003T040100Z
DTEND:20251004T035900Z
DTSTAMP:20250723T134300Z
CREATED:20250723
LAST-MODIFIED:20250723
PRIORITY:5
SEQUENCE:0
TRANSP:OPAQUE
SUMMARY:SUKKOS VACATION Students may leave after Shacharis
DESCRIPTION:
URL:https://yor.onstaging.dev/events/sukkos-vacation-students-may-leave-after-shacharis/
ORGANIZER;CN=YOR calendar:MAILTO:1e497c4e19224c756419afef8aa3762cc22489c0efaaae2ffc5389ad8be3fb51@group.calendar.google.com
END:VEVENT
BEGIN:VEVENT
CLASS:PUBLIC
UID:MEC-993edc98ca87f7e08494eec37fa836f7@yor.onstaging.dev
DTSTART:20251002T040100Z
DTEND:20251003T035900Z
DTSTAMP:20250723T134300Z
CREATED:20250723
LAST-MODIFIED:20250723
PRIORITY:5
SEQUENCE:0
TRANSP:OPAQUE
SUMMARY:YOM KIPPUR
DESCRIPTION:
URL:https://yor.onstaging.dev/events/yom-kippur/
ORGANIZER;CN=YOR calendar:MAILTO:1e497c4e19224c756419afef8aa3762cc22489c0efaaae2ffc5389ad8be3fb51@group.calendar.google.com
END:VEVENT
BEGIN:VEVENT
CLASS:PUBLIC
UID:MEC-ea3aed2bce2d893088e71e188ebca823@yor.onstaging.dev
DTSTART:20251001T040100Z
DTEND:20251002T035900Z
DTSTAMP:20250723T134300Z
CREATED:20250723
LAST-MODIFIED:20250723
PRIORITY:5
SEQUENCE:0
TRANSP:OPAQUE
SUMMARY:EREV YOM KIPPUR No General Studies Classes
DESCRIPTION:
URL:https://yor.onstaging.dev/events/erev-yom-kippur-no-general-studies-classes/
ORGANIZER;CN=YOR calendar:MAILTO:1e497c4e19224c756419afef8aa3762cc22489c0efaaae2ffc5389ad8be3fb51@group.calendar.google.com
END:VEVENT
BEGIN:VEVENT
CLASS:PUBLIC
UID:MEC-7e185cc0ad0a719c730af5354d7142c1@yor.onstaging.dev
DTSTART:20250925T040100Z
DTEND:20250926T035900Z
DTSTAMP:20250723T134300Z
CREATED:20250723
LAST-MODIFIED:20250723
PRIORITY:5
SEQUENCE:0
TRANSP:OPAQUE
SUMMARY:TZOM GEDALIA No General Studies Classes
DESCRIPTION:
URL:https://yor.onstaging.dev/events/tzom-gedalia-no-general-studies-classes/
ORGANIZER;CN=YOR calendar:MAILTO:1e497c4e19224c756419afef8aa3762cc22489c0efaaae2ffc5389ad8be3fb51@group.calendar.google.com
END:VEVENT
BEGIN:VEVENT
CLASS:PUBLIC
UID:MEC-96bda159871048d8a36f197dfce668a4@yor.onstaging.dev
DTSTART:20250922T040100Z
DTEND:20250923T035900Z
DTSTAMP:20250723T134300Z
CREATED:20250723
LAST-MODIFIED:20250723
PRIORITY:5
SEQUENCE:0
TRANSP:OPAQUE
SUMMARY:EREV ROSH HASHANA No General Studies Classes
DESCRIPTION:
URL:https://yor.onstaging.dev/events/erev-rosh-hashana-no-general-studies-classes/
ORGANIZER;CN=YOR calendar:MAILTO:1e497c4e19224c756419afef8aa3762cc22489c0efaaae2ffc5389ad8be3fb51@group.calendar.google.com
END:VEVENT
BEGIN:VEVENT
CLASS:PUBLIC
UID:MEC-9ae0a504e3af13e2e6b3ff478a8f637b@yor.onstaging.dev
DTSTART:20250923T040100Z
DTEND:20250925T035900Z
DTSTAMP:20250723T134300Z
CREATED:20250723
LAST-MODIFIED:20250723
PRIORITY:5
SEQUENCE:0
TRANSP:OPAQUE
SUMMARY:ROSH HASHANA (Students stay for R”H)
DESCRIPTION:
URL:https://yor.onstaging.dev/events/rosh-hashana-students-stay-for-rh/
ORGANIZER;CN=YOR calendar:MAILTO:1e497c4e19224c756419afef8aa3762cc22489c0efaaae2ffc5389ad8be3fb51@group.calendar.google.com
END:VEVENT
BEGIN:VEVENT
CLASS:PUBLIC
UID:MEC-d4a93297083a23cc099f7bd6a8621131@yor.onstaging.dev
DTSTART:20250902T040100Z
DTEND:20250903T035900Z
DTSTAMP:20250723T134300Z
CREATED:20250723
LAST-MODIFIED:20250723
PRIORITY:5
SEQUENCE:0
TRANSP:OPAQUE
SUMMARY:Orientation and First Day of Classes
DESCRIPTION:
URL:https://yor.onstaging.dev/events/orientation-and-first-day-of-classes/
ORGANIZER;CN=YOR calendar:MAILTO:1e497c4e19224c756419afef8aa3762cc22489c0efaaae2ffc5389ad8be3fb51@group.calendar.google.com
END:VEVENT
BEGIN:VEVENT
CLASS:PUBLIC
UID:MEC-328347805873e9a9c700591812fb0ec2@yor.onstaging.dev
DTSTART:20250901T200000Z
DTEND:20250901T210000Z
DTSTAMP:20250723T134300Z
CREATED:20250723
LAST-MODIFIED:20250723
PRIORITY:5
SEQUENCE:0
TRANSP:OPAQUE
SUMMARY:All Dormitory students arrive by 7:00 PM
DESCRIPTION:
URL:https://yor.onstaging.dev/events/all-dormitory-students-arrive-by-700-pm/
ORGANIZER;CN=YOR calendar:MAILTO:1e497c4e19224c756419afef8aa3762cc22489c0efaaae2ffc5389ad8be3fb51@group.calendar.google.com
END:VEVENT
BEGIN:VEVENT
CLASS:PUBLIC
UID:MEC-7cc980b0f894bd0cf05c37c246f215f3@yor.onstaging.dev
DTSTART:20250821T084000Z
DTEND:20250821T094000Z
DTSTAMP:20250723T134300Z
CREATED:20250723
LAST-MODIFIED:20250723
PRIORITY:5
SEQUENCE:0
TRANSP:OPAQUE
SUMMARY:Bais Medrash arrives for Elul Zman
DESCRIPTION:
URL:https://yor.onstaging.dev/events/bais-medrash-arrives-for-elul-zman/
ORGANIZER;CN=YOR calendar:MAILTO:1e497c4e19224c756419afef8aa3762cc22489c0efaaae2ffc5389ad8be3fb51@group.calendar.google.com
END:VEVENT
BEGIN:VEVENT
CLASS:PUBLIC
UID:MEC-1068bceb19323fe72b2b344ccf85c254@yor.onstaging.dev
DTSTART:19700101T040000Z
DTEND:20250314T160000Z
DTSTAMP:20250708T134400Z
RDATE;VALUE=PERIOD:19700101T040000Z/20250314T160000Z,19700101T040000Z/20250421T160000Z
CREATED:20250708
LAST-MODIFIED:20250708
PRIORITY:5
SEQUENCE:0
TRANSP:OPAQUE
SUMMARY:Spring Breaks
DESCRIPTION:
URL:https://yor.onstaging.dev/events/spring-breaks/
CATEGORIES:Academics and Semester
END:VEVENT
BEGIN:VEVENT
CLASS:PUBLIC
UID:MEC-c80bcf42c220b8f5c41f85344242f1b0@yor.onstaging.dev
DTSTART:19700101T040000Z
DTEND:20250630T160000Z
DTSTAMP:20250708T134300Z
CREATED:20250708
LAST-MODIFIED:20250708
PRIORITY:5
SEQUENCE:0
TRANSP:OPAQUE
SUMMARY:Spring Semester
DESCRIPTION:
URL:https://yor.onstaging.dev/events/spring-semester/
CATEGORIES:Academics and Semester
END:VEVENT
BEGIN:VEVENT
CLASS:PUBLIC
UID:MEC-5c645cc19a53ac1dfb155840d886050c@yor.onstaging.dev
DTSTART:19700101T040000Z
DTEND:20241028T160000Z
DTSTAMP:20250708T134200Z
RDATE;VALUE=PERIOD:19700101T040000Z/20241028T160000Z,19700101T040000Z/20241230T160000Z
CREATED:20250708
LAST-MODIFIED:20250708
PRIORITY:5
SEQUENCE:0
TRANSP:OPAQUE
SUMMARY:Fall Breaks
DESCRIPTION:
URL:https://yor.onstaging.dev/events/fall-breaks/
CATEGORIES:Academics and Semester
END:VEVENT
BEGIN:VEVENT
CLASS:PUBLIC
UID:MEC-fc152e73692bc3c934d248f639d9e963@yor.onstaging.dev
DTSTART:20240829T040000Z
DTEND:20250123T160000Z
DTSTAMP:20250708T133700Z
CREATED:20250708
LAST-MODIFIED:20250708
PRIORITY:5
SEQUENCE:0
TRANSP:OPAQUE
SUMMARY:Fall Semester
DESCRIPTION:
URL:https://yor.onstaging.dev/events/fall-semester/
CATEGORIES:Academics and Semester
END:VEVENT
END:VCALENDAR
